Package: ReportingTools Version: 2.47.0 Command: E:\biocbuild\bbs-3.21-bioc\R\bin\R.exe CMD check --no-multiarch --install=check:ReportingTools.install-out.txt --library=E:\biocbuild\bbs-3.21-bioc\R\library --no-vignettes --timings ReportingTools_2.47.0.tar.gz StartedAt: 2025-02-21 04:55:10 -0500 (Fri, 21 Feb 2025) EndedAt: 2025-02-21 04:55:15 -0500 (Fri, 21 Feb 2025) EllapsedTime: 5.0 seconds RetCode: 1 Status: ERROR CheckDir: ReportingTools.Rcheck Warnings: NA