Package: ReportingTools Version: 2.47.0 Command: /home/biocbuild/bbs-3.21-bioc/R/bin/R CMD INSTALL ReportingTools StartedAt: 2025-02-20 16:00:29 -0500 (Thu, 20 Feb 2025) EndedAt: 2025-02-20 16:00:30 -0500 (Thu, 20 Feb 2025) EllapsedTime: 1.1 seconds RetCode: 1 Status: ERROR