Package: ReportingTools Version: 2.47.0 Command: /home/biocbuild/bbs-3.21-bioc/R/bin/R CMD check --install=check:ReportingTools.install-out.txt --library=/home/biocbuild/bbs-3.21-bioc/R/site-library --timings ReportingTools_2.47.0.tar.gz StartedAt: 2025-02-20 01:41:26 -0500 (Thu, 20 Feb 2025) EndedAt: 2025-02-20 01:51:30 -0500 (Thu, 20 Feb 2025) EllapsedTime: 604.0 seconds RetCode: 0 Status: OK CheckDir: ReportingTools.Rcheck Warnings: 0