Package: ReportingTools Version: 2.47.0 Command: /Library/Frameworks/R.framework/Resources/bin/R CMD check --install=check:ReportingTools.install-out.txt --library=/Library/Frameworks/R.framework/Resources/library --no-vignettes --timings ReportingTools_2.47.0.tar.gz StartedAt: 2025-02-20 20:58:37 -0500 (Thu, 20 Feb 2025) EndedAt: 2025-02-20 20:58:42 -0500 (Thu, 20 Feb 2025) EllapsedTime: 4.0 seconds RetCode: 1 Status: ERROR CheckDir: ReportingTools.Rcheck Warnings: NA