Package: Repitools Version: 1.53.0 Command: chmod a+r Repitools -R && E:\biocbuild\bbs-3.21-bioc\R\bin\R.exe CMD build --keep-empty-dirs --no-resave-data Repitools StartedAt: 2025-02-20 21:12:28 -0500 (Thu, 20 Feb 2025) EndedAt: 2025-02-20 21:12:54 -0500 (Thu, 20 Feb 2025) EllapsedTime: 25.7 seconds RetCode: 1 Status: ERROR PackageFile: None PackageFileSize: NA