############################################################################## ############################################################################## ### ### Running command: ### ### chmod a+r Repitools -R && E:\biocbuild\bbs-3.21-bioc\R\bin\R.exe CMD build --keep-empty-dirs --no-resave-data Repitools ### ############################################################################## ############################################################################## * checking for file 'Repitools/DESCRIPTION' ... OK * preparing 'Repitools': * checking DESCRIPTION meta-information ... OK * cleaning src * installing the package to build vignettes ----------------------------------- * installing *source* package 'Repitools' ... ** this is package 'Repitools' version '1.53.0' ** using staged installation ** libs using C compiler: 'gcc.exe (GCC) 13.3.0' using C++ compiler: 'G__~1.EXE (GCC) 13.3.0' gcc -I"E:/biocbuild/bbs-3.21-bioc/R/include" -DNDEBUG -I"C:/rtools44/x86_64-w64-mingw32.static.posix/include" -D R_NO_REMAP -I. -O2 -Wall -mfpmath=sse -msse2 -mstackrealign -c const.c -o const.o gcc -I"E:/biocbuild/bbs-3.21-bioc/R/include" -DNDEBUG -I"C:/rtools44/x86_64-w64-mingw32.static.posix/include" -D R_NO_REMAP -I. -O2 -Wall -mfpmath=sse -msse2 -mstackrealign -c hyp2f1.c -o hyp2f1.o In file included from hyp2f1.c:81: ./mconf.h:100: warning: "DOMAIN" redefined 100 | #define DOMAIN 1 /* argument domain error */ | In file included from E:/biocbuild/bbs-3.21-bioc/R/include/Rmath.h:43, from hyp2f1.c:80: c:\rtools44\x86_64-w64-mingw32.static.posix\include\math.h:29: note: this is the location of the previous definition 29 | #define DOMAIN _DOMAIN | ./mconf.h:101: warning: "SING" redefined 101 | #define SING 2 /* argument singularity */ | c:\rtools44\x86_64-w64-mingw32.static.posix\include\math.h:30: note: this is the location of the previous definition 30 | #define SING _SING | ./mconf.h:102: warning: "OVERFLOW" redefined 102 | #define OVERFLOW 3 /* overflow range error */ | c:\rtools44\x86_64-w64-mingw32.static.posix\include\math.h:31: note: this is the location of the previous definition 31 | #define OVERFLOW _OVERFLOW | ./mconf.h:103: warning: "UNDERFLOW" redefined 103 | #define UNDERFLOW 4 /* underflow range error */ | c:\rtools44\x86_64-w64-mingw32.static.posix\include\math.h:32: note: this is the location of the previous definition 32 | #define UNDERFLOW _UNDERFLOW | ./mconf.h:104: warning: "TLOSS" redefined 104 | #define TLOSS 5 /* total loss of precision */ | c:\rtools44\x86_64-w64-mingw32.static.posix\include\math.h:33: note: this is the location of the previous definition 33 | #define TLOSS _TLOSS | ./mconf.h:105: warning: "PLOSS" redefined 105 | #define PLOSS 6 /* partial loss of precision */ | c:\rtools44\x86_64-w64-mingw32.static.posix\include\math.h:34: note: this is the location of the previous definition 34 | #define PLOSS _PLOSS | g++ -std=gnu++17 -I"E:/biocbuild/bbs-3.21-bioc/R/include" -DNDEBUG -I"C:/rtools44/x86_64-w64-mingw32.static.posix/include" -O2 -Wall -mfpmath=sse -msse2 -mstackrealign -DR_NO_REMAP -c mmeansd.cpp -o mmeansd.o In file included from E:/biocbuild/bbs-3.21-bioc/R/include/Rdefines.h:41, from mmeansd.cpp:10: mmeansd.cpp: In function 'SEXPREC* moving_mean_sd(SEXP, SEXP, SEXP)': mmeansd.cpp:49:20: error: 'allocVector' was not declared in this scope; did you mean 'Rf_allocVector'? 49 | PROTECT( res = allocVector( REALSXP, nval * 3) ); | ^~~~~~~~~~~ E:/biocbuild/bbs-3.21-bioc/R/include/Rinternals.h:388:36: note: in definition of macro 'PROTECT' 388 | #define PROTECT(s) Rf_protect(s) | ^ make: *** [E:/biocbuild/bbs-3.21-bioc/R/etc/x64/Makeconf:296: mmeansd.o] Error 1 ERROR: compilation failed for package 'Repitools' * removing 'E:/biocbuild/bbs-3.21-bioc/tmpdir/Rtmpe2KWDA/Rinst219781d64513f/Repitools' ----------------------------------- ERROR: package installation failed