Package: Repitools Version: 1.53.0 Command: /home/biocbuild/bbs-3.21-bioc/R/bin/R CMD check --install=check:Repitools.install-out.txt --library=/home/biocbuild/bbs-3.21-bioc/R/site-library --timings Repitools_1.53.0.tar.gz StartedAt: 2025-02-21 01:08:19 -0500 (Fri, 21 Feb 2025) EndedAt: 2025-02-21 01:15:21 -0500 (Fri, 21 Feb 2025) EllapsedTime: 421.8 seconds RetCode: 0 Status: WARNINGS CheckDir: Repitools.Rcheck Warnings: 1