Package: Repitools Version: 1.53.0 Command: /home/biocbuild/bbs-3.21-bioc/R/bin/R CMD build --keep-empty-dirs --no-resave-data Repitools StartedAt: 2025-02-21 19:16:50 -0500 (Fri, 21 Feb 2025) EndedAt: 2025-02-21 19:17:44 -0500 (Fri, 21 Feb 2025) EllapsedTime: 54.1 seconds RetCode: 0 Status: OK PackageFile: Repitools_1.53.0.tar.gz PackageFileSize: 1.686 MiB