Package: Repitools Version: 1.53.0 Command: /Library/Frameworks/R.framework/Resources/bin/R CMD INSTALL Repitools StartedAt: 2025-02-20 15:11:52 -0500 (Thu, 20 Feb 2025) EndedAt: 2025-02-20 15:11:53 -0500 (Thu, 20 Feb 2025) EllapsedTime: 1.3 seconds RetCode: 1 Status: ERROR