Package: RepViz Version: 1.23.0 Command: /home/biocbuild/bbs-3.21-bioc/R/bin/R CMD check --install=check:RepViz.install-out.txt --library=/home/biocbuild/bbs-3.21-bioc/R/site-library --timings RepViz_1.23.0.tar.gz StartedAt: 2025-02-20 01:41:42 -0500 (Thu, 20 Feb 2025) EndedAt: 2025-02-20 01:43:59 -0500 (Thu, 20 Feb 2025) EllapsedTime: 137.2 seconds RetCode: 0 Status: WARNINGS CheckDir: RepViz.Rcheck Warnings: 3