Package: RepViz Version: 1.23.0 Command: /Library/Frameworks/R.framework/Resources/bin/R CMD INSTALL RepViz StartedAt: 2025-02-19 15:14:19 -0500 (Wed, 19 Feb 2025) EndedAt: 2025-02-19 15:14:25 -0500 (Wed, 19 Feb 2025) EllapsedTime: 6.4 seconds RetCode: 0 Status: OK