Package: RegEnrich Version: 1.17.0 Command: /home/biocbuild/bbs-3.21-bioc/R/bin/R CMD INSTALL RegEnrich StartedAt: 2025-02-20 15:57:58 -0500 (Thu, 20 Feb 2025) EndedAt: 2025-02-20 15:58:33 -0500 (Thu, 20 Feb 2025) EllapsedTime: 34.7 seconds RetCode: 0 Status: OK