Package: RegEnrich Version: 1.17.0 Command: /home/biocbuild/bbs-3.21-bioc/R/bin/R CMD check --install=check:RegEnrich.install-out.txt --library=/home/biocbuild/bbs-3.21-bioc/R/site-library --timings RegEnrich_1.17.0.tar.gz StartedAt: 2025-02-21 01:06:52 -0500 (Fri, 21 Feb 2025) EndedAt: 2025-02-21 01:16:43 -0500 (Fri, 21 Feb 2025) EllapsedTime: 591.1 seconds RetCode: 0 Status: OK CheckDir: RegEnrich.Rcheck Warnings: 0