Package: RegEnrich Version: 1.17.0 Command: /Library/Frameworks/R.framework/Resources/bin/R CMD INSTALL RegEnrich StartedAt: 2025-02-20 15:31:57 -0500 (Thu, 20 Feb 2025) EndedAt: 2025-02-20 15:32:45 -0500 (Thu, 20 Feb 2025) EllapsedTime: 47.9 seconds RetCode: 0 Status: OK