Package: RegEnrich Version: 1.17.0 Command: /Library/Frameworks/R.framework/Resources/bin/R CMD build --keep-empty-dirs --no-resave-data RegEnrich StartedAt: 2025-02-20 17:57:22 -0500 (Thu, 20 Feb 2025) EndedAt: 2025-02-20 18:02:26 -0500 (Thu, 20 Feb 2025) EllapsedTime: 303.2 seconds RetCode: 0 Status: OK PackageFile: RegEnrich_1.17.0.tar.gz PackageFileSize: 1.136 MiB