Package: RegEnrich Version: 1.17.0 Command: /Library/Frameworks/R.framework/Resources/bin/R CMD INSTALL RegEnrich StartedAt: 2025-02-21 15:20:14 -0500 (Fri, 21 Feb 2025) EndedAt: 2025-02-21 15:20:29 -0500 (Fri, 21 Feb 2025) EllapsedTime: 14.2 seconds RetCode: 0 Status: OK