Package: RegEnrich Version: 1.17.0 Command: /Library/Frameworks/R.framework/Resources/bin/R CMD build --keep-empty-dirs --no-resave-data RegEnrich StartedAt: 2025-02-21 17:21:24 -0500 (Fri, 21 Feb 2025) EndedAt: 2025-02-21 17:23:24 -0500 (Fri, 21 Feb 2025) EllapsedTime: 119.3 seconds RetCode: 0 Status: OK PackageFile: RegEnrich_1.17.0.tar.gz PackageFileSize: 1.136 MiB