Package: ReducedExperiment Version: 0.99.6 Command: /home/biocbuild/bbs-3.21-bioc/R/bin/R CMD check --install=check:ReducedExperiment.install-out.txt --library=/home/biocbuild/bbs-3.21-bioc/R/site-library --timings ReducedExperiment_0.99.6.tar.gz StartedAt: 2025-02-21 01:06:15 -0500 (Fri, 21 Feb 2025) EndedAt: 2025-02-21 01:14:03 -0500 (Fri, 21 Feb 2025) EllapsedTime: 468.8 seconds RetCode: 0 Status: OK CheckDir: ReducedExperiment.Rcheck Warnings: 0