Package: ReducedExperiment Version: 0.99.6 Command: /Library/Frameworks/R.framework/Resources/bin/R CMD INSTALL ReducedExperiment StartedAt: 2025-02-20 15:33:15 -0500 (Thu, 20 Feb 2025) EndedAt: 2025-02-20 15:34:01 -0500 (Thu, 20 Feb 2025) EllapsedTime: 45.8 seconds RetCode: 0 Status: OK