Package: ReducedExperiment Version: 0.99.6 Command: /Library/Frameworks/R.framework/Resources/bin/R CMD check --install=check:ReducedExperiment.install-out.txt --library=/Library/Frameworks/R.framework/Resources/library --no-vignettes --timings ReducedExperiment_0.99.6.tar.gz StartedAt: 2025-02-20 22:41:40 -0500 (Thu, 20 Feb 2025) EndedAt: 2025-02-20 22:48:41 -0500 (Thu, 20 Feb 2025) EllapsedTime: 420.6 seconds RetCode: 0 Status: OK CheckDir: ReducedExperiment.Rcheck Warnings: 0