Package: RedisParam Version: 1.9.0 Command: E:\biocbuild\bbs-3.21-bioc\R\bin\R.exe CMD check --no-multiarch --install=check:RedisParam.install-out.txt --library=E:\biocbuild\bbs-3.21-bioc\R\library --no-vignettes --timings RedisParam_1.9.0.tar.gz StartedAt: 2025-02-21 04:52:36 -0500 (Fri, 21 Feb 2025) EndedAt: 2025-02-21 04:54:14 -0500 (Fri, 21 Feb 2025) EllapsedTime: 98.0 seconds RetCode: 0 Status: OK CheckDir: RedisParam.Rcheck Warnings: 0