Package: RedisParam Version: 1.9.0 Command: chmod a+r RedisParam -R && E:\biocbuild\bbs-3.21-bioc\R\bin\R.exe CMD build --keep-empty-dirs --no-resave-data RedisParam StartedAt: 2025-02-20 21:10:49 -0500 (Thu, 20 Feb 2025) EndedAt: 2025-02-20 21:11:54 -0500 (Thu, 20 Feb 2025) EllapsedTime: 65.0 seconds RetCode: 0 Status: OK PackageFile: RedisParam_1.9.0.tar.gz PackageFileSize: 950.6 KiB