Package: RedisParam Version: 1.9.0 Command: rm -rf RedisParam.buildbin-libdir && mkdir RedisParam.buildbin-libdir && E:\biocbuild\bbs-3.21-bioc\R\bin\R.exe CMD INSTALL --build --library=RedisParam.buildbin-libdir RedisParam_1.9.0.tar.gz StartedAt: 2025-02-21 08:53:29 -0500 (Fri, 21 Feb 2025) EndedAt: 2025-02-21 08:54:22 -0500 (Fri, 21 Feb 2025) EllapsedTime: 52.8 seconds RetCode: 0 Status: OK PackageFile: RedisParam_1.9.0.zip PackageFileSize: 1023 KiB