Package: RedisParam Version: 1.9.0 Command: /home/biocbuild/bbs-3.21-bioc/R/bin/R CMD build --keep-empty-dirs --no-resave-data RedisParam StartedAt: 2025-02-19 18:50:12 -0500 (Wed, 19 Feb 2025) EndedAt: 2025-02-19 18:50:19 -0500 (Wed, 19 Feb 2025) EllapsedTime: 7.0 seconds RetCode: 0 Status: OK PackageFile: RedisParam_1.9.0.tar.gz PackageFileSize: 950.5 KiB