Package: RedisParam Version: 1.9.0 Command: /Library/Frameworks/R.framework/Resources/bin/R CMD INSTALL RedisParam StartedAt: 2025-02-19 15:22:27 -0500 (Wed, 19 Feb 2025) EndedAt: 2025-02-19 15:22:35 -0500 (Wed, 19 Feb 2025) EllapsedTime: 8.5 seconds RetCode: 0 Status: OK