Package: RedisParam Version: 1.9.0 Command: rm -rf RedisParam.buildbin-libdir && mkdir RedisParam.buildbin-libdir && /Users/biocbuild/BBS/utils/build-universal.sh RedisParam_1.9.0.tar.gz /Library/Frameworks/R.framework/Resources/bin/R RedisParam.buildbin-libdir StartedAt: 2025-02-19 22:34:46 -0500 (Wed, 19 Feb 2025) EndedAt: 2025-02-19 22:34:48 -0500 (Wed, 19 Feb 2025) EllapsedTime: 2.1 seconds RetCode: 0 Status: OK PackageFile: RedisParam_1.9.0.tgz PackageFileSize: 1.002 MiB