Package: RedeR Version: 3.3.0 Command: /home/biocbuild/bbs-3.21-bioc/R/bin/R CMD build --keep-empty-dirs --no-resave-data RedeR StartedAt: 2025-02-19 18:50:12 -0500 (Wed, 19 Feb 2025) EndedAt: 2025-02-19 18:50:23 -0500 (Wed, 19 Feb 2025) EllapsedTime: 11.0 seconds RetCode: 0 Status: OK PackageFile: RedeR_3.3.0.tar.gz PackageFileSize: 4.347 MiB