Package: RedeR Version: 3.3.0 Command: /Library/Frameworks/R.framework/Resources/bin/R CMD INSTALL RedeR StartedAt: 2025-02-19 15:08:02 -0500 (Wed, 19 Feb 2025) EndedAt: 2025-02-19 15:08:17 -0500 (Wed, 19 Feb 2025) EllapsedTime: 15.2 seconds RetCode: 0 Status: OK