Package: RedeR Version: 3.3.0 Command: /home/biocbuild/R/R/bin/R CMD build --keep-empty-dirs --no-resave-data RedeR StartedAt: 2025-01-29 01:35:19 -0000 (Wed, 29 Jan 2025) EndedAt: 2025-01-29 01:35:35 -0000 (Wed, 29 Jan 2025) EllapsedTime: 16.0 seconds RetCode: 0 Status: OK PackageFile: RedeR_3.3.0.tar.gz PackageFileSize: 4.416 MiB