Package: ReadqPCR Version: 1.53.0 Command: /Library/Frameworks/R.framework/Resources/bin/R CMD build --keep-empty-dirs --no-resave-data ReadqPCR StartedAt: 2025-02-19 17:22:51 -0500 (Wed, 19 Feb 2025) EndedAt: 2025-02-19 17:22:56 -0500 (Wed, 19 Feb 2025) EllapsedTime: 5.1 seconds RetCode: 0 Status: OK PackageFile: ReadqPCR_1.53.0.tar.gz PackageFileSize: 490.9 KiB