Package: ReactomePA Version: 1.51.0 Command: chmod a+r ReactomePA -R && E:\biocbuild\bbs-3.21-bioc\R\bin\R.exe CMD build --keep-empty-dirs --no-resave-data ReactomePA StartedAt: 2025-02-20 21:09:49 -0500 (Thu, 20 Feb 2025) EndedAt: 2025-02-20 21:10:48 -0500 (Thu, 20 Feb 2025) EllapsedTime: 58.6 seconds RetCode: 0 Status: OK PackageFile: ReactomePA_1.51.0.tar.gz PackageFileSize: 57.27 KiB