Package: ReactomePA Version: 1.52.0 Command: /home/biocbuild/R/R/bin/R CMD INSTALL ReactomePA StartedAt: 2025-10-13 21:06:47 -0000 (Mon, 13 Oct 2025) EndedAt: 2025-10-13 21:07:21 -0000 (Mon, 13 Oct 2025) EllapsedTime: 33.5 seconds RetCode: 0 Status: OK