Package: ReactomeGSA Version: 1.21.2 Command: chmod a+r ReactomeGSA -R && E:\biocbuild\bbs-3.21-bioc\R\bin\R.exe CMD build --keep-empty-dirs --no-resave-data ReactomeGSA StartedAt: 2025-02-20 21:09:30 -0500 (Thu, 20 Feb 2025) EndedAt: 2025-02-20 21:16:25 -0500 (Thu, 20 Feb 2025) EllapsedTime: 414.7 seconds RetCode: 0 Status: OK PackageFile: ReactomeGSA_1.21.2.tar.gz PackageFileSize: 160.8 KiB