Package: ReactomeGSA Version: 1.21.2 Command: /home/biocbuild/bbs-3.21-bioc/R/bin/R CMD INSTALL ReactomeGSA StartedAt: 2025-02-20 16:07:29 -0500 (Thu, 20 Feb 2025) EndedAt: 2025-02-20 16:07:36 -0500 (Thu, 20 Feb 2025) EllapsedTime: 7.2 seconds RetCode: 0 Status: OK