Package: ReactomeGSA Version: 1.21.2 Command: /home/biocbuild/bbs-3.21-bioc/R/bin/R CMD check --install=check:ReactomeGSA.install-out.txt --library=/home/biocbuild/bbs-3.21-bioc/R/site-library --timings ReactomeGSA_1.21.2.tar.gz StartedAt: 2025-02-21 01:04:37 -0500 (Fri, 21 Feb 2025) EndedAt: 2025-02-21 01:22:42 -0500 (Fri, 21 Feb 2025) EllapsedTime: 1084.9 seconds RetCode: 0 Status: OK CheckDir: ReactomeGSA.Rcheck Warnings: 0