Package: ReactomeGSA Version: 1.21.2 Command: /Library/Frameworks/R.framework/Resources/bin/R CMD INSTALL ReactomeGSA StartedAt: 2025-02-20 15:38:29 -0500 (Thu, 20 Feb 2025) EndedAt: 2025-02-20 15:38:40 -0500 (Thu, 20 Feb 2025) EllapsedTime: 11.3 seconds RetCode: 0 Status: OK