Package: ReactomeGSA Version: 1.21.2 Command: /Library/Frameworks/R.framework/Resources/bin/R CMD check --install=check:ReactomeGSA.install-out.txt --library=/Library/Frameworks/R.framework/Resources/library --no-vignettes --timings ReactomeGSA_1.21.2.tar.gz StartedAt: 2025-02-20 22:40:19 -0500 (Thu, 20 Feb 2025) EndedAt: 2025-02-20 22:53:47 -0500 (Thu, 20 Feb 2025) EllapsedTime: 808.2 seconds RetCode: 0 Status: OK CheckDir: ReactomeGSA.Rcheck Warnings: 0