Package: ReactomeGSA Version: 1.21.2 Command: /Library/Frameworks/R.framework/Resources/bin/R CMD build --keep-empty-dirs --no-resave-data ReactomeGSA StartedAt: 2025-02-20 17:56:44 -0500 (Thu, 20 Feb 2025) EndedAt: 2025-02-20 18:01:07 -0500 (Thu, 20 Feb 2025) EllapsedTime: 262.2 seconds RetCode: 0 Status: OK PackageFile: ReactomeGSA_1.21.2.tar.gz PackageFileSize: 402.8 KiB