Package: ReactomeGSA Version: 1.22.0 Command: /Library/Frameworks/R.framework/Resources/bin/R CMD INSTALL ReactomeGSA StartedAt: 2025-10-02 18:13:33 -0400 (Thu, 02 Oct 2025) EndedAt: 2025-10-02 18:13:43 -0400 (Thu, 02 Oct 2025) EllapsedTime: 10.4 seconds RetCode: 0 Status: OK