Package: ReactomeGSA Version: 1.22.0 Command: rm -rf ReactomeGSA.buildbin-libdir && mkdir ReactomeGSA.buildbin-libdir && /Users/biocbuild/BBS/utils/build-universal.sh ReactomeGSA_1.22.0.tar.gz /Library/Frameworks/R.framework/Resources/bin/R ReactomeGSA.buildbin-libdir StartedAt: 2025-10-04 19:29:36 -0400 (Sat, 04 Oct 2025) EndedAt: 2025-10-04 19:29:48 -0400 (Sat, 04 Oct 2025) EllapsedTime: 12.4 seconds RetCode: 0 Status: OK PackageFile: ReactomeGSA_1.22.0.tgz PackageFileSize: 759.9 KiB