Package: ReactomeContentService4R Version: 1.15.1 Command: E:\biocbuild\bbs-3.21-bioc\R\bin\R.exe CMD INSTALL ReactomeContentService4R StartedAt: 2025-02-19 15:30:25 -0500 (Wed, 19 Feb 2025) EndedAt: 2025-02-19 15:33:17 -0500 (Wed, 19 Feb 2025) EllapsedTime: 172.3 seconds RetCode: 0 Status: OK