Package: ReactomeContentService4R Version: 1.15.1 Command: chmod a+r ReactomeContentService4R -R && E:\biocbuild\bbs-3.21-bioc\R\bin\R.exe CMD build --keep-empty-dirs --no-resave-data ReactomeContentService4R StartedAt: 2025-02-19 21:05:59 -0500 (Wed, 19 Feb 2025) EndedAt: 2025-02-19 21:08:38 -0500 (Wed, 19 Feb 2025) EllapsedTime: 158.4 seconds RetCode: 0 Status: OK PackageFile: ReactomeContentService4R_1.15.1.tar.gz PackageFileSize: 2.282 MiB