Package: ReactomeContentService4R Version: 1.15.1 Command: /home/biocbuild/bbs-3.21-bioc/R/bin/R CMD INSTALL ReactomeContentService4R StartedAt: 2025-02-17 15:06:09 -0500 (Mon, 17 Feb 2025) EndedAt: 2025-02-17 15:06:33 -0500 (Mon, 17 Feb 2025) EllapsedTime: 24.6 seconds RetCode: 0 Status: OK