Package: ReactomeContentService4R Version: 1.15.1 Command: /home/biocbuild/bbs-3.21-bioc/R/bin/R CMD check --install=check:ReactomeContentService4R.install-out.txt --library=/home/biocbuild/bbs-3.21-bioc/R/site-library --timings ReactomeContentService4R_1.15.1.tar.gz StartedAt: 2025-02-18 01:25:30 -0500 (Tue, 18 Feb 2025) EndedAt: 2025-02-18 01:26:22 -0500 (Tue, 18 Feb 2025) EllapsedTime: 52.2 seconds RetCode: 1 Status: ERROR CheckDir: ReactomeContentService4R.Rcheck Warnings: NA