Package: ReactomeContentService4R Version: 1.15.1 Command: /home/biocbuild/bbs-3.21-bioc/R/bin/R CMD build --keep-empty-dirs --no-resave-data ReactomeContentService4R StartedAt: 2025-02-17 18:46:00 -0500 (Mon, 17 Feb 2025) EndedAt: 2025-02-17 18:46:34 -0500 (Mon, 17 Feb 2025) EllapsedTime: 34.1 seconds RetCode: 0 Status: OK PackageFile: ReactomeContentService4R_1.15.1.tar.gz PackageFileSize: 2.281 MiB