Package: ReactomeContentService4R Version: 1.16.0 Command: /Library/Frameworks/R.framework/Resources/bin/R CMD build --keep-empty-dirs --no-resave-data ReactomeContentService4R StartedAt: 2025-09-29 21:54:08 -0400 (Mon, 29 Sep 2025) EndedAt: 2025-09-29 21:55:02 -0400 (Mon, 29 Sep 2025) EllapsedTime: 53.4 seconds RetCode: 0 Status: OK PackageFile: ReactomeContentService4R_1.16.0.tar.gz PackageFileSize: 2.282 MiB