Package: ReactomeContentService4R Version: 1.16.0 Command: rm -rf ReactomeContentService4R.buildbin-libdir && mkdir ReactomeContentService4R.buildbin-libdir && /Users/biocbuild/BBS/utils/build-universal.sh ReactomeContentService4R_1.16.0.tar.gz /Library/Frameworks/R.framework/Resources/bin/R ReactomeContentService4R.buildbin-libdir StartedAt: 2025-09-30 14:17:20 -0400 (Tue, 30 Sep 2025) EndedAt: 2025-09-30 14:17:31 -0400 (Tue, 30 Sep 2025) EllapsedTime: 10.7 seconds RetCode: 0 Status: OK PackageFile: ReactomeContentService4R_1.16.0.tgz PackageFileSize: 1.157 MiB