Package: ReactomeContentService4R Version: 1.15.1 Command: /Library/Frameworks/R.framework/Resources/bin/R CMD INSTALL ReactomeContentService4R StartedAt: 2025-02-17 15:07:41 -0500 (Mon, 17 Feb 2025) EndedAt: 2025-02-17 15:08:08 -0500 (Mon, 17 Feb 2025) EllapsedTime: 27.1 seconds RetCode: 0 Status: OK