Package: ReUseData Version: 1.8.0 Command: /home/biocbuild/R/R/bin/R CMD INSTALL ReUseData StartedAt: 2025-10-13 20:24:45 -0000 (Mon, 13 Oct 2025) EndedAt: 2025-10-13 20:25:05 -0000 (Mon, 13 Oct 2025) EllapsedTime: 19.8 seconds RetCode: 0 Status: OK