Package: Rdisop Version: 1.67.5 Command: E:\biocbuild\bbs-3.21-bioc\R\bin\R.exe CMD INSTALL Rdisop StartedAt: 2025-02-20 15:18:43 -0500 (Thu, 20 Feb 2025) EndedAt: 2025-02-20 15:20:10 -0500 (Thu, 20 Feb 2025) EllapsedTime: 87.7 seconds RetCode: 0 Status: OK